BEGIN:VCALENDAR
VERSION:2.0
PRODID:-//wp-events-plugin.com//7.2.3.1//EN
BEGIN:VEVENT
UID:14@clustermaritimo.es
DTSTART;TZID=Europe/Madrid:20260121T121500
DTEND;TZID=Europe/Madrid:20260121T140000
DTSTAMP:20260112T094146Z
URL:https://clustermaritimo.es/eventos/la-labor-de-los-buques-hospital-en-
 la-mar/
SUMMARY:La Labor de los Buques Hospital en la Mar (21/01/2026)
DESCRIPTION:El Clúster Marítimo Español celebrará un nuevo Encuentro co
 n la Mar\, el proximo miércoles 21 de enero de 2026\, de 12:15 a 14:00\, 
 bajo el título “La Labor de los Buques Hospital en la Mar”\, en Madri
 d.\n\nDurante el acto intervendrán los siguientes representantes de las s
 iguientes entidades:\n\n 	Mercy Ships\nD. Gerardo Vangioni\, CEO Mercy Shi
 ps.\n 	Instituto Social de la Marina\nDña. Elena Martínez Carqués\, Dir
 ectora del ISM.\n 	Armada Española\nCOR. Med. Juan Carlos López Aguilar.
 \n\nEl encuentro podrá seguirse tanto de manera presencial como online\, 
 mediante la plataforma Zoom.\n\nEl enlace para acceder a la reunión es el
  siguiente:\n\nhttps://us06web.zoom.us/j/87836751395?pwd=5tEbadAoiViikB9tF
 IGZk2AkhII8fJ.1\n\nID de reunión: 878 3675 1395\nCódigo de acceso: 02421
 8\n\nComo es habitual\, una vez finalizado el encuentro\, se servirá un v
 ino español. 
LOCATION:Escuela Superior Ingenieros Navales\, Av. de la Memoria\, 4\, Monc
 loa - Aravaca\, Madrid\, 28040\, España
X-APPLE-STRUCTURED-LOCATION;VALUE=URI;X-ADDRESS=Av. de la Memoria\, 4\, Mon
 cloa - Aravaca\, Madrid\, 28040\, España;X-APPLE-RADIUS=100;X-TITLE=Escue
 la Superior Ingenieros Navales:geo:0,0
END:VEVENT
BEGIN:VTIMEZONE
TZID:Europe/Madrid
X-LIC-LOCATION:Europe/Madrid
BEGIN:STANDARD
DTSTART:20251026T020000
TZOFFSETFROM:+0200
TZOFFSETTO:+0100
TZNAME:CET
END:STANDARD
END:VTIMEZONE
END:VCALENDAR