BEGIN:VCALENDAR
VERSION:2.0
PRODID:-//wp-events-plugin.com//7.2.3.1//EN
BEGIN:VEVENT
UID:13@clustermaritimo.es
DTSTART;TZID=Europe/Madrid:20251210T090000
DTEND;TZID=Europe/Madrid:20251210T103000
DTSTAMP:20251120T105214Z
URL:https://clustermaritimo.es/eventos/desayuno-con-el-general-de-brigada-
 d-javier-moscoso-sicardo-jefe-de-la-jefatura-de-policia-maritima-de-la-gua
 rdia-civil-10-12-2025/
SUMMARY:Desayuno con el General de Brigada D. Javier Moscoso Sicardo\, Jefe
  de la Jefatura de Policía Marítima de la Guardia Civil\, 10/12/2025
DESCRIPTION:Por indicación de nuestro Presidente D. Javier Garat Pérez\, 
 tenemos el gusto de comunicarle que el Clúster celebrará un nuevo Desay
 uno con el General de Brigada D.Javier Moscoso Sicardo\, Jefe de la Jefatu
 ra de Policía Marítima de la Guardia Civil\, con título "Frontera Sur\,
  la respuesta de la Guardia Civil ante la inmigración irregular por vía 
 marítima"\, el próximo miércoles 10 de diciembre\, de 9:00 a 10:30\, e
 n el Real Casino de Madrid (C. de Alcalá\, 15\, 28014 Madrid).\n\n&nbsp\;
LOCATION:NH Collection Casino de Madrid\, Calle Alcala\, 15\, Madrid\, Madr
 id\, 28014\, España
X-APPLE-STRUCTURED-LOCATION;VALUE=URI;X-ADDRESS=Calle Alcala\, 15\, Madrid\
 , Madrid\, 28014\, España;X-APPLE-RADIUS=100;X-TITLE=NH Collection Casino
  de Madrid:geo:0,0
END:VEVENT
BEGIN:VTIMEZONE
TZID:Europe/Madrid
X-LIC-LOCATION:Europe/Madrid
BEGIN:STANDARD
DTSTART:20251026T020000
TZOFFSETFROM:+0200
TZOFFSETTO:+0100
TZNAME:CET
END:STANDARD
END:VTIMEZONE
END:VCALENDAR